BEGIN:VCALENDAR
VERSION:2.0
PRODID:-//Sword In The Stone Games - ECPv6.15.17.1//NONSGML v1.0//EN
CALSCALE:GREGORIAN
METHOD:PUBLISH
X-WR-CALNAME:Sword In The Stone Games
X-ORIGINAL-URL:https://swordstonegames.com
X-WR-CALDESC:Events for Sword In The Stone Games
REFRESH-INTERVAL;VALUE=DURATION:PT1H
X-Robots-Tag:noindex
X-PUBLISHED-TTL:PT1H
BEGIN:VTIMEZONE
TZID:America/New_York
BEGIN:DAYLIGHT
TZOFFSETFROM:-0500
TZOFFSETTO:-0400
TZNAME:EDT
DTSTART:20250309T070000
END:DAYLIGHT
BEGIN:STANDARD
TZOFFSETFROM:-0400
TZOFFSETTO:-0500
TZNAME:EST
DTSTART:20251102T060000
END:STANDARD
BEGIN:DAYLIGHT
TZOFFSETFROM:-0500
TZOFFSETTO:-0400
TZNAME:EDT
DTSTART:20260308T070000
END:DAYLIGHT
BEGIN:STANDARD
TZOFFSETFROM:-0400
TZOFFSETTO:-0500
TZNAME:EST
DTSTART:20261101T060000
END:STANDARD
BEGIN:DAYLIGHT
TZOFFSETFROM:-0500
TZOFFSETTO:-0400
TZNAME:EDT
DTSTART:20270314T070000
END:DAYLIGHT
BEGIN:STANDARD
TZOFFSETFROM:-0400
TZOFFSETTO:-0500
TZNAME:EST
DTSTART:20271107T060000
END:STANDARD
END:VTIMEZONE
BEGIN:VEVENT
DTSTART;TZID=America/New_York:20260131T163000
DTEND;TZID=America/New_York:20260131T203000
DTSTAMP:20260422T183810
CREATED:20251216T004947Z
LAST-MODIFIED:20251216T004947Z
UID:6678-1769877000-1769891400@swordstonegames.com
SUMMARY:Digimon Regulation Battle Vol. 4 [01/31/2026]
DESCRIPTION:Digimon Regulation Battle Vol. 4 \nTest your skills and compete under the latest Regulation Battle format! Join us for Digimon Regulation Battle Vol. 4\, where strategy\, adaptability\, and deck mastery will determine the top tamers. \n🔹 Regulation Requirement \nFor this event\, 30 cards in your deck must be from one of the following tags:\nADVENTURE\, HERO\, APPMON\, CHRONICLE\, SEEKERS\, LIBERATOR\, CS\, or TS \nMake sure your deck meets the requirement before the event begins! \n🔹 Event Details \nFormat: Regulation Battle Vol. 4 \nPlayer Cap: 16 participants \nEntry Fee: $11.99 \nPrize Support: \n1 booster pack per player added to the prize pool (distributed based on standings) \n1 Participation Pack for every player \nPromos for all participants (while supplies last) \n🔹 Event Dates \nJoin one or battle in both! \nSaturday\, January 31 at 4:30 PM \nWednesday\, February 4 at 6:00 PM \nSharpen your deck\, prepare your strategies\, and take on other tamers in a competitive and rewarding Regulation Battle event.
URL:https://swordstonegames.com/event/digimon-regulation-battle-vol-4-01-31-2026/
LOCATION:Sword in the Stone\, 29 Wyoming Valley Mall Road\, Wilkes-barre Township\, PA\, 18702\, United States
END:VEVENT
END:VCALENDAR