BEGIN:VCALENDAR
VERSION:2.0
PRODID:-//Sword In The Stone Games - ECPv6.15.17.1//NONSGML v1.0//EN
CALSCALE:GREGORIAN
METHOD:PUBLISH
X-ORIGINAL-URL:https://swordstonegames.com
X-WR-CALDESC:Events for Sword In The Stone Games
REFRESH-INTERVAL;VALUE=DURATION:PT1H
X-Robots-Tag:noindex
X-PUBLISHED-TTL:PT1H
BEGIN:VTIMEZONE
TZID:America/New_York
BEGIN:DAYLIGHT
TZOFFSETFROM:-0500
TZOFFSETTO:-0400
TZNAME:EDT
DTSTART:20250309T070000
END:DAYLIGHT
BEGIN:STANDARD
TZOFFSETFROM:-0400
TZOFFSETTO:-0500
TZNAME:EST
DTSTART:20251102T060000
END:STANDARD
BEGIN:DAYLIGHT
TZOFFSETFROM:-0500
TZOFFSETTO:-0400
TZNAME:EDT
DTSTART:20260308T070000
END:DAYLIGHT
BEGIN:STANDARD
TZOFFSETFROM:-0400
TZOFFSETTO:-0500
TZNAME:EST
DTSTART:20261101T060000
END:STANDARD
BEGIN:DAYLIGHT
TZOFFSETFROM:-0500
TZOFFSETTO:-0400
TZNAME:EDT
DTSTART:20270314T070000
END:DAYLIGHT
BEGIN:STANDARD
TZOFFSETFROM:-0400
TZOFFSETTO:-0500
TZNAME:EST
DTSTART:20271107T060000
END:STANDARD
END:VTIMEZONE
BEGIN:VEVENT
DTSTART;TZID=America/New_York:20260315T153000
DTEND;TZID=America/New_York:20260315T193000
DTSTAMP:20260422T144712
CREATED:20260203T002131Z
LAST-MODIFIED:20260203T002131Z
UID:6835-1773588600-1773603000@swordstonegames.com
SUMMARY:D&D: Learn to Play 18+ with DM RPGJames [03/15/2026]
DESCRIPTION:Want to learn D&D but don’t know where to start? We’ve got you covered! Join us for a 3-4 hour game designed to teach new players the rules and flow of the game.  \nYou’re hired to guard a supply wagon heading to a small town called Nym’s River when you’re ambushed just outside your destination\, leaving the driver in critical condition. Desperate to save him\, you continue to town only to find it beset by a mysterious sickness. To make matters worse\, the two factions responsible for treating the townsfolk are at odds\, pointing the finger at one another as tensions run high. Quarantined until the driver stabilizes\, you’re tasked with investigating the sickness\, but it soon becomes clear that something is *wrong* in Nym’s River. The question is\, what? And can you find out before it’s too late? \n** Dice\, Dice Bags\, and Notebook included **
URL:https://swordstonegames.com/event/dd-learn-to-play-18-with-dm-rpgjames-03-15-2026/
LOCATION:Sword in the Stone\, 29 Wyoming Valley Mall Road\, Wilkes-barre Township\, PA\, 18702\, United States
END:VEVENT
END:VCALENDAR