BEGIN:VCALENDAR
VERSION:2.0
PRODID:-//Sword In The Stone Games - ECPv6.15.17.1//NONSGML v1.0//EN
CALSCALE:GREGORIAN
METHOD:PUBLISH
X-ORIGINAL-URL:https://swordstonegames.com
X-WR-CALDESC:Events for Sword In The Stone Games
REFRESH-INTERVAL;VALUE=DURATION:PT1H
X-Robots-Tag:noindex
X-PUBLISHED-TTL:PT1H
BEGIN:VTIMEZONE
TZID:America/New_York
BEGIN:DAYLIGHT
TZOFFSETFROM:-0500
TZOFFSETTO:-0400
TZNAME:EDT
DTSTART:20250309T070000
END:DAYLIGHT
BEGIN:STANDARD
TZOFFSETFROM:-0400
TZOFFSETTO:-0500
TZNAME:EST
DTSTART:20251102T060000
END:STANDARD
BEGIN:DAYLIGHT
TZOFFSETFROM:-0500
TZOFFSETTO:-0400
TZNAME:EDT
DTSTART:20260308T070000
END:DAYLIGHT
BEGIN:STANDARD
TZOFFSETFROM:-0400
TZOFFSETTO:-0500
TZNAME:EST
DTSTART:20261101T060000
END:STANDARD
BEGIN:DAYLIGHT
TZOFFSETFROM:-0500
TZOFFSETTO:-0400
TZNAME:EDT
DTSTART:20270314T070000
END:DAYLIGHT
BEGIN:STANDARD
TZOFFSETFROM:-0400
TZOFFSETTO:-0500
TZNAME:EST
DTSTART:20271107T060000
END:STANDARD
END:VTIMEZONE
BEGIN:VEVENT
DTSTART;TZID=America/New_York:20260403T120000
DTEND;TZID=America/New_York:20260403T140000
DTSTAMP:20260422T165105
CREATED:20260317T160351Z
LAST-MODIFIED:20260403T161453Z
UID:6908-1775217600-1775224800@swordstonegames.com
SUMMARY:Blood and Thunder Blood Bowl League [04/03/2026]
DESCRIPTION:This is just for people to pay for the league
URL:https://swordstonegames.com/event/blood-and-thunder-blood-bowl-league-04-03-2026/
LOCATION:Sword in the Stone\, 29 Wyoming Valley Mall Road\, Wilkes-barre Township\, PA\, 18702\, United States
END:VEVENT
BEGIN:VEVENT
DTSTART;TZID=America/New_York:20260403T173000
DTEND;TZID=America/New_York:20260403T230000
DTSTAMP:20260422T165105
CREATED:20260317T160352Z
LAST-MODIFIED:20260403T161453Z
UID:6909-1775237400-1775257200@swordstonegames.com
SUMMARY:Teenage Mutant Ninja Turtle Commander Party [04/03/2026]
DESCRIPTION:TMNT Commander Party 🐢🍕 \n🗓 Friday\, March 13th\n🗓 Friday\, April 3rd\n🕔 Start Time: 5:30 PM\n💵 Entry Fee: $5 \nCowabunga! Grab your deck and join us for a laid-back TMNT-themed Commander Party. Whether you fight with the discipline of Leonardo\, the brains of Donatello\, the attitude of Raphael\, or the appetite of Michelangelo\, this event is all about casual games\, good vibes\, and community fun. \nThis is a relaxed Commander night perfect for hanging out\, slinging spells\, and enjoying Magic with friends—no matter your skill level. \n🎉 What to Expect: \nCasual Commander play \nExclusive promos (while supplies last!) \nA friendly\, welcoming atmosphere for new and returning players \nTotally tubular vibes (pizza not guaranteed… but encouraged 😉) \nAll are welcome—bring your friends\, bring your decks\, and come party like you live in the sewers! 🐢✨
URL:https://swordstonegames.com/event/teenage-mutant-ninja-turtle-commander-party-04-03-2026/
LOCATION:Sword in the Stone\, 29 Wyoming Valley Mall Road\, Wilkes-barre Township\, PA\, 18702\, United States
END:VEVENT
BEGIN:VEVENT
DTSTART;TZID=America/New_York:20260403T173000
DTEND;TZID=America/New_York:20260403T233000
DTSTAMP:20260422T165105
CREATED:20260317T160352Z
LAST-MODIFIED:20260403T161453Z
UID:6910-1775237400-1775259000@swordstonegames.com
SUMMARY:Friday Night Magic - Commander Fight Night [04/03/2026]
DESCRIPTION:Join us each Friday Night for Commander Fight Night! \nStarting at 5:30pm and going on all night this is your chance to shine in 4 player commander pods.  \nAll you have to do to gain access to this event is to sign up through the Wizards Play Network Companion App to enter.  \nPlay with friends to battle it out and have a great evening of gaming and fun.  \nDoor prizes may be given out which would consist of Magic: the Gathering related items.
URL:https://swordstonegames.com/event/friday-night-magic-commander-fight-night-04-03-2026/
LOCATION:Sword in the Stone\, 29 Wyoming Valley Mall Road\, Wilkes-barre Township\, PA\, 18702\, United States
END:VEVENT
BEGIN:VEVENT
DTSTART;TZID=America/New_York:20260403T180000
DTEND;TZID=America/New_York:20260403T220000
DTSTAMP:20260422T165105
CREATED:20260317T160353Z
LAST-MODIFIED:20260403T161453Z
UID:6911-1775239200-1775253600@swordstonegames.com
SUMMARY:Odyssey of the Dragonlords with DM Jeremiah [04/03/2026]
DESCRIPTION:Odyssey of the Dragonlords (5E) — DM Jeremiah \n🗓 Fridays | ⏰ 6:00 PM | 💰 $9.99 per session \nEmbark on an epic adventure through the mythic lands of Thylea in Odyssey of the Dragonlords\, a grand Dungeons & Dragons 5E campaign inspired by ancient Greek legends. Under the guidance of DM Jeremiah\, heroes rise to challenge titans\, forge divine oaths\, and shape the destiny of a world steeped in prophecy. \nThis campaign is currently full\, but be sure to check out our other D&D sessions for more great adventures! \nCost: $9.99 per session\nSystem: D&D 5E – Odyssey of the Dragonlords\nDM: Jeremiah\nWhen: Fridays at 6 PM\nStatus: 🔒 Campaign Full
URL:https://swordstonegames.com/event/odyssey-of-the-dragonlords-with-dm-jeremiah-04-03-2026/
LOCATION:Sword in the Stone\, 29 Wyoming Valley Mall Road\, Wilkes-barre Township\, PA\, 18702\, United States
END:VEVENT
BEGIN:VEVENT
DTSTART;TZID=America/New_York:20260403T183000
DTEND;TZID=America/New_York:20260403T223000
DTSTAMP:20260422T165105
CREATED:20260317T160354Z
LAST-MODIFIED:20260403T161453Z
UID:6912-1775241000-1775255400@swordstonegames.com
SUMMARY:D&D Oakhurst & The Green Beyond [04/03/2026]
DESCRIPTION:DM: RPG James \nLong has The Green Beyond mystified the people of Oakhurst. A vast and seemingly endless forest\, it’s as alluring as it is dangerous. You’ve been in the frontier city a few weeks when you’re hired to investigate a nearby centaur encampment\, whose water source has mysteriously turned poisonous. But your search uncovers more than you bargained for\, and a long-forgotten secret begins to make itself known. \nJoin RPG James for a bi-weekly\, sandbox-style campaign designed for level 5 characters. Explore the forest\, take bounties\, and investigate local mysteries at your own pace\, in whatever order you’d like. But be cautious—for something prowls deep in The Green Beyond\, and it doesn’t want you there.
URL:https://swordstonegames.com/event/dd-oakhurst-the-green-beyond-04-03-2026/
LOCATION:Sword in the Stone\, 29 Wyoming Valley Mall Road\, Wilkes-barre Township\, PA\, 18702\, United States
END:VEVENT
BEGIN:VEVENT
DTSTART;TZID=America/New_York:20260403T190000
DTEND;TZID=America/New_York:20260403T223000
DTSTAMP:20260422T165105
CREATED:20260317T160355Z
LAST-MODIFIED:20260403T161454Z
UID:6913-1775242800-1775255400@swordstonegames.com
SUMMARY:MTG Modern Fridays [04/03/2026]
DESCRIPTION:Calling all Modern players! We are proud to announce the beginning of our weekly modern tournaments! Join us on Fridays starting at 7pm sharp to test your metal against other modern players. The event will be $5.00 + tax per participant. Store credit for prize support.
URL:https://swordstonegames.com/event/mtg-modern-fridays-04-03-2026/
LOCATION:Sword in the Stone\, 29 Wyoming Valley Mall Road\, Wilkes-barre Township\, PA\, 18702\, United States
END:VEVENT
BEGIN:VEVENT
DTSTART;TZID=America/New_York:20260403T190000
DTEND;TZID=America/New_York:20260403T230000
DTSTAMP:20260422T165105
CREATED:20260317T160356Z
LAST-MODIFIED:20260403T161454Z
UID:6914-1775242800-1775257200@swordstonegames.com
SUMMARY:It's Turtle Time MTG Draft [04/03/2026]
DESCRIPTION:🐢 It’s Turtle Time! – MTG Draft Event \nSlow and steady wins the race… but drafting smart wins the prizes! Join us for It’s Turtle Time\, a special Magic: The Gathering Pick-2 Draft event series where players battle it out in small pods for fun\, prizes\, and promos. \n📅 Event Dates \nFriday\, March 27th – 7:00 PM \nFriday\, April 3rd – 7:00 PM \nFriday\, April 10th – 7:00 PM \n📍 Location: Sword in the Stone\n💵 Entry Fee: $14.99\n👥 Pod Size: 4 players per pod \n🃏 Event Format \n4-Player Pods \nPick 2 Draft \nCasual competitive environment perfect for both experienced drafters and newer players. \n🎁 Prizing \n1 booster pack per player added to the prize pool \n1 booster pack for participating \n1 non-foil MTG Promo Pack for participating \nMore players means more pods—and more chances to draft and win!
URL:https://swordstonegames.com/event/its-turtle-time-mtg-draft-04-03-2026/
LOCATION:Sword in the Stone\, 29 Wyoming Valley Mall Road\, Wilkes-barre Township\, PA\, 18702\, United States
END:VEVENT
BEGIN:VEVENT
DTSTART;TZID=America/New_York:20260403T190000
DTEND;TZID=America/New_York:20260403T230000
DTSTAMP:20260422T165105
CREATED:20260317T160357Z
LAST-MODIFIED:20260403T161454Z
UID:6915-1775242800-1775257200@swordstonegames.com
SUMMARY:It's Turtle Time MTG Draft pod 2 [04/03/2026]
DESCRIPTION:🐢 It’s Turtle Time! – MTG Draft Event \nSlow and steady wins the race… but drafting smart wins the prizes! Join us for It’s Turtle Time\, a special Magic: The Gathering Pick-2 Draft event series where players battle it out in small pods for fun\, prizes\, and promos. \n📅 Event Dates \nFriday\, March 27th – 7:00 PM \nFriday\, April 3rd – 7:00 PM \nFriday\, April 10th – 7:00 PM \n📍 Location: Sword in the Stone\n💵 Entry Fee: $14.99\n👥 Pod Size: 4 players per pod \n🃏 Event Format \n4-Player Pods \nPick 2 Draft \nCasual competitive environment perfect for both experienced drafters and newer players. \n🎁 Prizing \n1 booster pack per player added to the prize pool \n1 booster pack for participating \n1 non-foil MTG Promo Pack for participating \nMore players means more pods—and more chances to draft and win!
URL:https://swordstonegames.com/event/its-turtle-time-mtg-draft-pod-2-04-03-2026/
LOCATION:Sword in the Stone\, 29 Wyoming Valley Mall Road\, Wilkes-barre Township\, PA\, 18702\, United States
END:VEVENT
BEGIN:VEVENT
DTSTART;TZID=America/New_York:20260403T193000
DTEND;TZID=America/New_York:20260403T223000
DTSTAMP:20260422T165105
CREATED:20260317T160358Z
LAST-MODIFIED:20260403T161454Z
UID:6916-1775244600-1775255400@swordstonegames.com
SUMMARY:One Piece Store Tournament Fridays [04/03/2026]
DESCRIPTION:Join us every Friday at 7:30pm for our weekly One Piece Store Tournament where you will win promo packs and more! \nThese events are an “everyone wins” type of event where every participant receives at least 1 promo pack for participating. \nPrize support depends on attendance. Don’t miss out on your chance to get promos\, packs\, and more!
URL:https://swordstonegames.com/event/one-piece-store-tournament-fridays-04-03-2026/
LOCATION:Sword in the Stone\, 29 Wyoming Valley Mall Road\, Wilkes-barre Township\, PA\, 18702\, United States
END:VEVENT
END:VCALENDAR