BEGIN:VCALENDAR
VERSION:2.0
PRODID:-//Sword In The Stone Games - ECPv6.15.17.1//NONSGML v1.0//EN
CALSCALE:GREGORIAN
METHOD:PUBLISH
X-ORIGINAL-URL:https://swordstonegames.com
X-WR-CALDESC:Events for Sword In The Stone Games
REFRESH-INTERVAL;VALUE=DURATION:PT1H
X-Robots-Tag:noindex
X-PUBLISHED-TTL:PT1H
BEGIN:VTIMEZONE
TZID:America/New_York
BEGIN:DAYLIGHT
TZOFFSETFROM:-0500
TZOFFSETTO:-0400
TZNAME:EDT
DTSTART:20250309T070000
END:DAYLIGHT
BEGIN:STANDARD
TZOFFSETFROM:-0400
TZOFFSETTO:-0500
TZNAME:EST
DTSTART:20251102T060000
END:STANDARD
BEGIN:DAYLIGHT
TZOFFSETFROM:-0500
TZOFFSETTO:-0400
TZNAME:EDT
DTSTART:20260308T070000
END:DAYLIGHT
BEGIN:STANDARD
TZOFFSETFROM:-0400
TZOFFSETTO:-0500
TZNAME:EST
DTSTART:20261101T060000
END:STANDARD
BEGIN:DAYLIGHT
TZOFFSETFROM:-0500
TZOFFSETTO:-0400
TZNAME:EDT
DTSTART:20270314T070000
END:DAYLIGHT
BEGIN:STANDARD
TZOFFSETFROM:-0400
TZOFFSETTO:-0500
TZNAME:EST
DTSTART:20271107T060000
END:STANDARD
END:VTIMEZONE
BEGIN:VEVENT
DTSTART;TZID=America/New_York:20260523T163000
DTEND;TZID=America/New_York:20260523T193000
DTSTAMP:20260423T163618
CREATED:20260403T161547Z
LAST-MODIFIED:20260407T201036Z
UID:7195-1779553800-1779564600@swordstonegames.com
SUMMARY:Digimon ST-23 and ST-24 [05/23/2026]
DESCRIPTION:The Digimon Card Game Starter Decks DIGIMON BEATBREAK [ST-23] and DIGIMON DATA SQUAD [ST-24] release on May 15th\, and we’re celebrating with a casual launch event! \n📅 Event Dates\n• Wednesday\, May 20th — 6:15 PM\n• Saturday\, May 23rd — 4:30 PM \n💵 Entry: $15.99 \nThis event is designed for a wide range of players\, from brand-new Tamers to experienced players\, using the ST-23 and ST-24 starter decks. \nOur goal is to welcome new and returning players to the Digimon Card Game. If you’re already a player\, bring a friend and introduce them to the game in a friendly\, beginner-focused environment! \n🏆 Participation Prizes\nEach participant will receive:\n• Welcome Tamers Pack Vol.2 ×1\n• Time Stranger Promo Pack ×1 \n👥 Bring-a-Friend Bonus\nIf you invite a friend to participate\, both you and your friend will receive one additional pack of each type:\n• Welcome Tamers Pack Vol.2 ×1 (extra)\n• Time Stranger Promo Pack ×1 (extra) \nWhether you’re new to the Digital World or a veteran Tamer\, come celebrate the new starter decks and enjoy a fun night of Digimon! 🔥
URL:https://swordstonegames.com/event/digimon-st-23-and-st-24-05-23-2026/
LOCATION:Sword in the Stone\, 29 Wyoming Valley Mall Road\, Wilkes-barre Township\, PA\, 18702\, United States
END:VEVENT
END:VCALENDAR