BEGIN:VCALENDAR
VERSION:2.0
PRODID:-//Sword In The Stone Games - ECPv6.15.17.1//NONSGML v1.0//EN
CALSCALE:GREGORIAN
METHOD:PUBLISH
X-ORIGINAL-URL:https://swordstonegames.com
X-WR-CALDESC:Events for Sword In The Stone Games
REFRESH-INTERVAL;VALUE=DURATION:PT1H
X-Robots-Tag:noindex
X-PUBLISHED-TTL:PT1H
BEGIN:VTIMEZONE
TZID:America/New_York
BEGIN:DAYLIGHT
TZOFFSETFROM:-0500
TZOFFSETTO:-0400
TZNAME:EDT
DTSTART:20250309T070000
END:DAYLIGHT
BEGIN:STANDARD
TZOFFSETFROM:-0400
TZOFFSETTO:-0500
TZNAME:EST
DTSTART:20251102T060000
END:STANDARD
BEGIN:DAYLIGHT
TZOFFSETFROM:-0500
TZOFFSETTO:-0400
TZNAME:EDT
DTSTART:20260308T070000
END:DAYLIGHT
BEGIN:STANDARD
TZOFFSETFROM:-0400
TZOFFSETTO:-0500
TZNAME:EST
DTSTART:20261101T060000
END:STANDARD
BEGIN:DAYLIGHT
TZOFFSETFROM:-0500
TZOFFSETTO:-0400
TZNAME:EDT
DTSTART:20270314T070000
END:DAYLIGHT
BEGIN:STANDARD
TZOFFSETFROM:-0400
TZOFFSETTO:-0500
TZNAME:EST
DTSTART:20271107T060000
END:STANDARD
END:VTIMEZONE
BEGIN:VEVENT
DTSTART;TZID=America/New_York:20260530T140000
DTEND;TZID=America/New_York:20260530T180000
DTSTAMP:20260423T164224
CREATED:20260407T201036Z
LAST-MODIFIED:20260407T201036Z
UID:7287-1780149600-1780164000@swordstonegames.com
SUMMARY:Gundam TCG Store Championship [05/30/2026]
DESCRIPTION:🏆 GUNDAM TCG STORE CHAMPIONSHIP – SWORD IN THE STONE 🏆 \nPilots\, it’s time—our first-ever Gundam TCG Store Championship is officially here! \n📅 Date: May 30th\n⏰ Start Time: 2:00 PM\n💲 Entry: $25.00\n📝 Player Applications Open: April 11th at 8:00 PM\n👥 Player Cap: 32 \nThis is a premier competitive event\, and players will be traveling in—so bring your best and be ready for a full day of high-level play. \nPRIZE SUPPORT \nParticipation\n• Event Pack 01 ×1 \nTop 8\n• WCS 26–27 Participation Pack Vol.1 ×1 \nTop 4\n• WCS 26–27 Participation Pack Vol.1 ×1\n• Event Pack 01 ×1 \nTop 2\n• ST06-009 Amte Yuzuriha (Machu) Alt-Art Promo Card ×1 \nChampion\n• Regionals Season 1 Sleeve Set (70 sleeves) ×1 \nWORLD CHAMPIONSHIP INVITES\nInvites to the World Championship 25–26 Area Finals will be awarded based on attendance:\n• 1–23 players: 1 Invite\n• 24–47 players: 2 Invites \nGet your decks ready\, lock in your spot\, and come compete for your chance at glory. This is one you don’t want to miss.
URL:https://swordstonegames.com/event/gundam-tcg-store-championship-05-30-2026/
LOCATION:Sword in the Stone\, 29 Wyoming Valley Mall Road\, Wilkes-barre Township\, PA\, 18702\, United States
END:VEVENT
END:VCALENDAR